BEGIN:VCALENDAR
VERSION:2.0
PRODID:-// - ECPv6.15.20//NONSGML v1.0//EN
CALSCALE:GREGORIAN
METHOD:PUBLISH
X-ORIGINAL-URL:https://sheisarider.de
X-WR-CALDESC:Veranstaltungen für 
REFRESH-INTERVAL;VALUE=DURATION:PT1H
X-Robots-Tag:noindex
X-PUBLISHED-TTL:PT1H
BEGIN:VTIMEZONE
TZID:Europe/Berlin
BEGIN:DAYLIGHT
TZOFFSETFROM:+0100
TZOFFSETTO:+0200
TZNAME:CEST
DTSTART:20220327T010000
END:DAYLIGHT
BEGIN:STANDARD
TZOFFSETFROM:+0200
TZOFFSETTO:+0100
TZNAME:CET
DTSTART:20221030T010000
END:STANDARD
BEGIN:DAYLIGHT
TZOFFSETFROM:+0100
TZOFFSETTO:+0200
TZNAME:CEST
DTSTART:20230326T010000
END:DAYLIGHT
BEGIN:STANDARD
TZOFFSETFROM:+0200
TZOFFSETTO:+0100
TZNAME:CET
DTSTART:20231029T010000
END:STANDARD
BEGIN:DAYLIGHT
TZOFFSETFROM:+0100
TZOFFSETTO:+0200
TZNAME:CEST
DTSTART:20240331T010000
END:DAYLIGHT
BEGIN:STANDARD
TZOFFSETFROM:+0200
TZOFFSETTO:+0100
TZNAME:CET
DTSTART:20241027T010000
END:STANDARD
END:VTIMEZONE
BEGIN:VEVENT
DTSTART;VALUE=DATE:20231201
DTEND;VALUE=DATE:20231204
DTSTAMP:20260425T152027
CREATED:20230920T153129Z
LAST-MODIFIED:20231111T181404Z
UID:52314-1701388800-1701647999@sheisarider.de
SUMMARY:A B G E S A G T  --  BMT - Berliner Motorradtage im Dezember 2023
DESCRIPTION:Vom 01.- 03. Dezember 2023 wird in den Berliner Messehallen alles geboten\, was das Bikerherz höher schlagen lässt. Ob Chopper-Fan oder Super-Biker\, Café-Racer oder Moto-Crosser\, Tourer oder Edelschrauber – hier findet jeder Zweiradbegeisterte sein Traumbike. Motorroller oder Elektrobikes gehören ebenso zum Repertoire wie hochwertige Zubehör- und Tuningteile\, aktuelle Helme und Bekleidung\, neueste Sicherheitsausrüstung oder Helm-Sprechanlagen.
URL:https://sheisarider.de/event/bmt-berliner-motorradtage-im-dezember-2023/
END:VEVENT
END:VCALENDAR