BEGIN:VCALENDAR
VERSION:2.0
PRODID:-// - ECPv6.15.20//NONSGML v1.0//EN
CALSCALE:GREGORIAN
METHOD:PUBLISH
X-ORIGINAL-URL:https://sheisarider.de
X-WR-CALDESC:Veranstaltungen für 
REFRESH-INTERVAL;VALUE=DURATION:PT1H
X-Robots-Tag:noindex
X-PUBLISHED-TTL:PT1H
BEGIN:VTIMEZONE
TZID:Europe/Berlin
BEGIN:DAYLIGHT
TZOFFSETFROM:+0100
TZOFFSETTO:+0200
TZNAME:CEST
DTSTART:20220327T010000
END:DAYLIGHT
BEGIN:STANDARD
TZOFFSETFROM:+0200
TZOFFSETTO:+0100
TZNAME:CET
DTSTART:20221030T010000
END:STANDARD
BEGIN:DAYLIGHT
TZOFFSETFROM:+0100
TZOFFSETTO:+0200
TZNAME:CEST
DTSTART:20230326T010000
END:DAYLIGHT
BEGIN:STANDARD
TZOFFSETFROM:+0200
TZOFFSETTO:+0100
TZNAME:CET
DTSTART:20231029T010000
END:STANDARD
BEGIN:DAYLIGHT
TZOFFSETFROM:+0100
TZOFFSETTO:+0200
TZNAME:CEST
DTSTART:20240331T010000
END:DAYLIGHT
BEGIN:STANDARD
TZOFFSETFROM:+0200
TZOFFSETTO:+0100
TZNAME:CET
DTSTART:20241027T010000
END:STANDARD
END:VTIMEZONE
BEGIN:VEVENT
DTSTART;TZID=Europe/Berlin:20231208T160000
DTEND;TZID=Europe/Berlin:20231208T200000
DTSTAMP:20260425T165205
CREATED:20231207T174855Z
LAST-MODIFIED:20231207T175137Z
UID:52883-1702051200-1702065600@sheisarider.de
SUMMARY:Honda Highlights 2024 in Solingen bei Fischer & Böhm
DESCRIPTION:Alle Honda Motorrad Highlights der EICMA in Essen\nHonda Motorradhändler Fischer & Böhm – Solingen\nHonda-Event mit Snacks und Drinks. Honda-Luft und Bezingespräche inklusive. \nAuf einen schönen Event freut sich das Team von Fischer und Böhm. \nUnd das sind die Honda-Motorräder zum Event:\nHonda Motorrad Neuheiten 2024\nFischer & Böhm GmbH & Co. KG\nSolingen \nUhlandstraße 2 – Ecke Höhscheider Str. \n42699 Solingen \nTel.: 0212 – 62058
URL:https://sheisarider.de/event/honda-highligts-2024-in-solingen-bei-fischer-boehm/
END:VEVENT
END:VCALENDAR