BEGIN:VCALENDAR
VERSION:2.0
PRODID:-// - ECPv6.15.20//NONSGML v1.0//EN
CALSCALE:GREGORIAN
METHOD:PUBLISH
X-ORIGINAL-URL:https://sheisarider.de
X-WR-CALDESC:Veranstaltungen für 
REFRESH-INTERVAL;VALUE=DURATION:PT1H
X-Robots-Tag:noindex
X-PUBLISHED-TTL:PT1H
BEGIN:VTIMEZONE
TZID:Europe/Berlin
BEGIN:DAYLIGHT
TZOFFSETFROM:+0100
TZOFFSETTO:+0200
TZNAME:CEST
DTSTART:20230326T010000
END:DAYLIGHT
BEGIN:STANDARD
TZOFFSETFROM:+0200
TZOFFSETTO:+0100
TZNAME:CET
DTSTART:20231029T010000
END:STANDARD
BEGIN:DAYLIGHT
TZOFFSETFROM:+0100
TZOFFSETTO:+0200
TZNAME:CEST
DTSTART:20240331T010000
END:DAYLIGHT
BEGIN:STANDARD
TZOFFSETFROM:+0200
TZOFFSETTO:+0100
TZNAME:CET
DTSTART:20241027T010000
END:STANDARD
BEGIN:DAYLIGHT
TZOFFSETFROM:+0100
TZOFFSETTO:+0200
TZNAME:CEST
DTSTART:20250330T010000
END:DAYLIGHT
BEGIN:STANDARD
TZOFFSETFROM:+0200
TZOFFSETTO:+0100
TZNAME:CET
DTSTART:20251026T010000
END:STANDARD
END:VTIMEZONE
BEGIN:VEVENT
DTSTART;VALUE=DATE:20240126
DTEND;VALUE=DATE:20240129
DTSTAMP:20260425T152131
CREATED:20231114T115824Z
LAST-MODIFIED:20240109T095623Z
UID:52777-1706227200-1706486399@sheisarider.de
SUMMARY:Motorradwelt Bodensee 2024 am letzten Januarwochenende
DESCRIPTION:Einmal im Jahr dreht sich auf dem Messegelände Friedrichshafen alles um heiße Öfen und glühende Reifen. Als größte Motorrad-Messe in Süddeutschland\, eröffnet die MOTORRADWELT BODENSEE bereits im Januar die neue Saison und lässt die Vorfreude auf die kommenden Bike-Abenteuer steigen. \n—> Das Ausstellerverzeichnis ist online <—\nLadies World – Ein Extra für alle Motorradfahrerinnen\nDass Frauen nicht nur hinten auf dem Motorrad\, sondern auch gerne selbst am Lenker sitzen\, ist schon lange klar. Rund 4\,4 Millionen Frauen in Deutschland besitzen im Jahr 2021 einen Motorradführerschein\, Tendenz steigend. Die neu etablierte Ladies World in der Halle B4\, legt einen Fokus auf diese stetig wachsende Bikerinnen-Community. Ob Neuzugang oder bereits Expertin\, dort trefft Ihr Frauen mit der Leidenschaft für das Motorradfahren Gleichgesinnte zum Austauschen und Vernetzen. \nAlle Preise hier – Tickets jetzt online kaufen!\n\nLet’s go party! mit der “Classic Rock Night – die Jubiläumsparty“\nEs ist mal wieder Zeit zu feiern!\n\n\n\nVor 30 Jahren gingen die Motorräder in Friedrichshafen an den Start und sind bis heute immer noch im Rennen. Das ist Anlass genug\, mit Euch eine stilechte und unvergessliche Jubiläumsparty zur feiern. Mit dabei sind Heaven in Hell\, Doll-Circus\, Max Roxton und die legendäre Rock-Antenne Band. Am Freitag\, 26. Januar 2024 ist es so weit\, die MOTORRADWELT BODENSEE rockt mit Euch die Halle A2. \nKarten für die Jubiläumsparty könnt Ihr ab sofort in unserem Online-Shop erwerben. (Party & Messeeintritt 35\,00 €\, Party 25\,00 €\, Eintritt zur Party ab 18 Jahren\, Kinder nur in Begleitung ihrer Eltern/Erziehungsberechtigten).
URL:https://sheisarider.de/event/motorradwelt-bodensee-2024-am-letzten-januarwochenende/
END:VEVENT
END:VCALENDAR