BEGIN:VCALENDAR
VERSION:2.0
PRODID:-// - ECPv6.15.20//NONSGML v1.0//EN
CALSCALE:GREGORIAN
METHOD:PUBLISH
X-ORIGINAL-URL:https://sheisarider.de
X-WR-CALDESC:Veranstaltungen für 
REFRESH-INTERVAL;VALUE=DURATION:PT1H
X-Robots-Tag:noindex
X-PUBLISHED-TTL:PT1H
BEGIN:VTIMEZONE
TZID:Europe/Berlin
BEGIN:DAYLIGHT
TZOFFSETFROM:+0100
TZOFFSETTO:+0200
TZNAME:CEST
DTSTART:20230326T010000
END:DAYLIGHT
BEGIN:STANDARD
TZOFFSETFROM:+0200
TZOFFSETTO:+0100
TZNAME:CET
DTSTART:20231029T010000
END:STANDARD
BEGIN:DAYLIGHT
TZOFFSETFROM:+0100
TZOFFSETTO:+0200
TZNAME:CEST
DTSTART:20240331T010000
END:DAYLIGHT
BEGIN:STANDARD
TZOFFSETFROM:+0200
TZOFFSETTO:+0100
TZNAME:CET
DTSTART:20241027T010000
END:STANDARD
BEGIN:DAYLIGHT
TZOFFSETFROM:+0100
TZOFFSETTO:+0200
TZNAME:CEST
DTSTART:20250330T010000
END:DAYLIGHT
BEGIN:STANDARD
TZOFFSETFROM:+0200
TZOFFSETTO:+0100
TZNAME:CET
DTSTART:20251026T010000
END:STANDARD
END:VTIMEZONE
BEGIN:VEVENT
DTSTART;VALUE=DATE:20240229
DTEND;VALUE=DATE:20240304
DTSTAMP:20260424T012847
CREATED:20240107T172210Z
LAST-MODIFIED:20240111T105917Z
UID:52944-1709164800-1709510399@sheisarider.de
SUMMARY:Motorräder Dortmund 2024 ab Donnerstag 29. Februar
DESCRIPTION:Auf der Motorradmesse Dortmund 2024 Neuheiten\, Technik und viel mehr erleben\n\n\n\n\n\nEin vielfältiges Programm gibt es zum Start in die Motorradsaison 2024 wieder in Dortmund. Vom 29. Februar bis zum 3. März öffnen die Westfalenhallen für die Zweiradfans ihre Pforten. Mit vielen Neuheiten\, Chrom und Action wird dann der Beginn der neuen Motorradsaison zelebriert. \nKumpels treffen\, mit den anderen Besuchern Benzingespräche führen\, auf den neuesten Traum-Maschinen sitzen\, Helme und Bekleidung passgenau anprobieren\, an den Messeständen die Infos über die neuesten Produkte bekommen. Im kommenden März gibt es wieder den Saisonstart in großem Kreis\, mit tollen Kontakten\, aktuellen Modellen und vielen Inspirationen. Da sind die Macher der Messe in den Dortmunder Westfalenhallen optimistisch! Viele Firmen mit spannenden Produkten haben bereits ihr Kommen angekündigt. \nMotorradmodelle des Modelljahres 2024 entdecken und Probesitzen\nDie großen Motorradhersteller und Zubehörspezialisten präsentieren sich erneut in den Messehallen 3 und 4. Hier stehen die Neuheiten im Mittelpunkt des Ausstellungsprogramms. Und natürlich darf ausgiebig zur Probe aufgesessen werden. \nAuch Reifenhersteller\, zahlreiche Umbauten und Markenzubehör für Individualisten und Experten sind hier zu finden. \nMotorrad.Action.Draussen\nViel Action ist geplant. Bei gutem Wetter wird vor dem neuen\, großzügigen Haupteingang Motorradakrobatik live geboten. Weitere Programmpunkte für Drinnen und Draußen wird es geben. Erlebt den Globe of Speed und die MONSTER Energy Trail Show sowie so manche Überraschung. \n\nParken\nParkplätze sind ausreichend vorhanden. Wer mit dem Bike kommt\, parkt kostenlos. Nutzt die Zufahrt 1 (über die B1).
URL:https://sheisarider.de/event/motorraeder-dortmung-2024-ab-donnerstag-29-februar/
END:VEVENT
END:VCALENDAR