BEGIN:VCALENDAR
VERSION:2.0
PRODID:-// - ECPv6.15.20//NONSGML v1.0//EN
CALSCALE:GREGORIAN
METHOD:PUBLISH
X-ORIGINAL-URL:https://sheisarider.de
X-WR-CALDESC:Veranstaltungen für 
REFRESH-INTERVAL;VALUE=DURATION:PT1H
X-Robots-Tag:noindex
X-PUBLISHED-TTL:PT1H
BEGIN:VTIMEZONE
TZID:Europe/Berlin
BEGIN:DAYLIGHT
TZOFFSETFROM:+0100
TZOFFSETTO:+0200
TZNAME:CEST
DTSTART:20220327T010000
END:DAYLIGHT
BEGIN:STANDARD
TZOFFSETFROM:+0200
TZOFFSETTO:+0100
TZNAME:CET
DTSTART:20221030T010000
END:STANDARD
BEGIN:DAYLIGHT
TZOFFSETFROM:+0100
TZOFFSETTO:+0200
TZNAME:CEST
DTSTART:20230326T010000
END:DAYLIGHT
BEGIN:STANDARD
TZOFFSETFROM:+0200
TZOFFSETTO:+0100
TZNAME:CET
DTSTART:20231029T010000
END:STANDARD
BEGIN:DAYLIGHT
TZOFFSETFROM:+0100
TZOFFSETTO:+0200
TZNAME:CEST
DTSTART:20240331T010000
END:DAYLIGHT
BEGIN:STANDARD
TZOFFSETFROM:+0200
TZOFFSETTO:+0100
TZNAME:CET
DTSTART:20241027T010000
END:STANDARD
END:VTIMEZONE
BEGIN:VEVENT
DTSTART;VALUE=DATE:20230224
DTEND;VALUE=DATE:20230227
DTSTAMP:20260424T201932
CREATED:20230201T145951Z
LAST-MODIFIED:20230201T145951Z
UID:50517-1677196800-1677455999@sheisarider.de
SUMMARY:IMOT 2023 neue Location auf dem Gelände der Messe München
DESCRIPTION:Wie jedes Frühjahr wird auch die IMOT 2023 in München zum Treffpunkt für Bikefans aus ganz Europa. Als größte Zweiradmesse Süddeutschlands punktet Sie mit einem breiten Mix internationaler Aussteller und zeigt neben topaktuellen Motorrad- und Rollermodellen auch eine große Auswahl an Produkten und Informationen rund um Customizing und Tuning sowie Bekleidung\, Reisen und Zubehör rund ums Motorrad. Dazu kommen aktuelle Zweiräder mit Elektroantrieb\, ein interessantes Bühnenprogramm sowie attraktive Sondershows und vieles mehr\, was das Bikerherz höherschlagen lässt. Seid ihr wieder mit dabei? \nIMOT 2023 – Premiere an neuer Location\n2023 ist die Motorradmesse IMOT zum ersten Mal auf dem großen Messegelände in München-Riem zu Gast. \nIMOT und f.r.e.e. – 2 Messen 1 Ticket\nAn der neuen Location befindet sich die IMOT in direkter Nachbarschaft zu Bayerns größter Reise- und Freizeitmesse f.re.e. Die Reisemesse läuft parallel und ist eine perfekte Ergänzung zum IMOT-Programm. Alle Tickets für die IMOT gelten auch für die f.re.e und sind daher ein tolles Mehrwert-Angebot! \nTickets für die IMOT hier kaufen \nWas und wo?\nDie größten Motorradmarken\, Tuning\, Zubehör\, Bekleidung und Touristik\, dazu ein abwechslungsreiches Rahmenprogramm und spannende Sondershows – das ist die IMOT 2023\, erstmals auf dem Messegelände München. \nDie neue Location bietet nicht nur zahlreiche Verbesserungen für die IMOT selbst\, sondern durch die zeitgleich laufende Reise- und Freizeitmesse f.re.e auch einen echten Mehrwert für alle Besucher. Der Vorteil: Tickets für die IMOT 2023 gelten auch für die f.re.e! Am besten gleich sichern: zum Ticketshop \nWann?\nDie IMOT 2023 ist von Freitag\, 24. Februar 2023\, bis Sonntag\, 26. Februar 2023\, täglich von 10 Uhr bis 18 Uhr geöffnet. \nWieviel?\nReguläres Ticket: 15 Euro\nErmäßigtes Ticket: 12 Euro [Schüler\, Studenten\, Rentner\, Menschen mit Behinderung. Einlass nur mit entsprechendem Nachweis möglich!]\nNachmittagsticket: 8 Euro [gültig täglich ab 15 Uhr]\nJuniorticket: 7 Euro [Kinder von 6 bis einschließlich 14 Jahren]\nKinderticket: freier Eintritt [Kinder bis einschließlich 5 Jahren] \nErwachsene Personen erhalten\, nach Vorlage ihrer eigenen Tickets und im Beisein der jeweiligen Kinder\, die entsprechende Anzahl an Kindertickets an den Info-Countern. \nWas gibt‘s zu sehen?\nIMOT Ausstellerverzeichnis\nWie hinkommen?\nDas Messegelände München liegt im Münchner Osten. Es ist sowohl sehr gut an den öffentlichen Nahverkehr als auch an die Autobahn angebunden.\nTipps zur Anreise gibt es hier. Bitte beachten: die IMOT 2023 steigt in den Hallen C5 und C6 im Nordost-Bereich des Messegeländes!
URL:https://sheisarider.de/event/imot-2023-neue-location-auf-dem-gelaende-der-messe-muenchen/
ATTACH;FMTTYPE=image/jpeg:https://sheisarider.de/wp-content/uploads/2023/02/imot-2023-gross.jpg
END:VEVENT
END:VCALENDAR