BEGIN:VCALENDAR
VERSION:2.0
PRODID:-// - ECPv6.15.20//NONSGML v1.0//EN
CALSCALE:GREGORIAN
METHOD:PUBLISH
X-ORIGINAL-URL:https://sheisarider.de
X-WR-CALDESC:Veranstaltungen für 
REFRESH-INTERVAL;VALUE=DURATION:PT1H
X-Robots-Tag:noindex
X-PUBLISHED-TTL:PT1H
BEGIN:VTIMEZONE
TZID:Europe/Berlin
BEGIN:DAYLIGHT
TZOFFSETFROM:+0100
TZOFFSETTO:+0200
TZNAME:CEST
DTSTART:20190331T010000
END:DAYLIGHT
BEGIN:STANDARD
TZOFFSETFROM:+0200
TZOFFSETTO:+0100
TZNAME:CET
DTSTART:20191027T010000
END:STANDARD
BEGIN:DAYLIGHT
TZOFFSETFROM:+0100
TZOFFSETTO:+0200
TZNAME:CEST
DTSTART:20200329T010000
END:DAYLIGHT
BEGIN:STANDARD
TZOFFSETFROM:+0200
TZOFFSETTO:+0100
TZNAME:CET
DTSTART:20201025T010000
END:STANDARD
BEGIN:DAYLIGHT
TZOFFSETFROM:+0100
TZOFFSETTO:+0200
TZNAME:CEST
DTSTART:20210328T010000
END:DAYLIGHT
BEGIN:STANDARD
TZOFFSETFROM:+0200
TZOFFSETTO:+0100
TZNAME:CET
DTSTART:20211031T010000
END:STANDARD
END:VTIMEZONE
BEGIN:VEVENT
DTSTART;TZID=Europe/Berlin:20200927T080000
DTEND;TZID=Europe/Berlin:20200927T170000
DTSTAMP:20260424T200911
CREATED:20200912T143015Z
LAST-MODIFIED:20200923T213544Z
UID:8546-1601193600-1601226000@sheisarider.de
SUMMARY:Ducati Berlin Kurventraining im ADAC Fahrsicherheitszentrum in Linthe
DESCRIPTION:Kurven\, Curves\, Curve – Kurventraining mit dem ADAC am 27.9.2020 in Linthe\nLiebe Ducatisti\, \nwir konnten mit dem ADAC Fahrsicherheitszentrum in Linthe (nur ca. 50 km von Berlin entfernt) ein exklusives Ducati-Kurventraining am Sonntag\, den 27. September 2020 vereinbaren. Wer möchte\, fährt gemeinsam mit uns dort hin. In Linthe trainieren wir mit erfahrenen Instruktoren unsere Kurventechnik – eines der wichtigsten (und schönsten!) Elemente des Motorradfahrens. Der Kurs richtet sich an ganz normale Motorradfahrer\, die gemeinsam mit uns ihre Fahrtechnik verbessern wollen. \n  \nVor Ort fahren wir in 3 Gruppen á 8 Teilnehmer mit den eigenen Motorrädern und jeweils einem Instruktor je Gruppe. \nIst das was für mich?\nDas Ducati-Kurventraining richtet sich an alle Kunden und Freunde von Ducati Berlin – Einsteiger\, Fortgeschrittene und erfahrene Fahrer. Jeder lernt dabei etwas dazu! \nDer Ablauf:\nSonntag\, 27.9.2020 \n• ab 08:00 Uhr: Treffpunkt AVUS-Treff Spinnerbrücke\n• 08:15 Uhr: Gemeinsame Anfahrt zum ADAC Fahrsicherheitszentrum nach Linthe über schöne Landstraßen\n• ab 10:00 Uhr: Kurventraining Teil 1\n• 12:30 Uhr: Mittagessen\n• ab 13:30 Uhr: Kurventraining Teil 2\n• 16:00 Uhr: Abfahrt Richtung Berlin\n• ca. 17:00 Uhr: Ankunft Spinnerbrücke und Ende der gemeinsamen Ausfahrt \nDie Kosten:\nDie Teilnahme am Ducati Kurventraining kostet pro Person 199\,- Euro einschließlich Mittagessen. \nAnmeldung\nunter bewerbung@ducati-berlin.de. \nEin paar wenige Plätze sind noch frei.
URL:https://sheisarider.de/event/ducati-berlin-kurventraining-im-adac-fahrsicherheitszentrum-in-linthe/
LOCATION:ADAC Fahrsicherheitszentrum Linthe\, Am Kalkberg 6\, Linthe\, Brandenburg\, 14822\, Deutschland
ATTACH;FMTTYPE=image/jpeg:https://sheisarider.de/wp-content/uploads/2018/03/Ducati_Scrambler_1100_Special_Mood_1.jpg
END:VEVENT
END:VCALENDAR