BEGIN:VCALENDAR
VERSION:2.0
PRODID:-// - ECPv6.15.20//NONSGML v1.0//EN
CALSCALE:GREGORIAN
METHOD:PUBLISH
X-ORIGINAL-URL:https://sheisarider.de
X-WR-CALDESC:Veranstaltungen für 
REFRESH-INTERVAL;VALUE=DURATION:PT1H
X-Robots-Tag:noindex
X-PUBLISHED-TTL:PT1H
BEGIN:VTIMEZONE
TZID:Europe/Berlin
BEGIN:DAYLIGHT
TZOFFSETFROM:+0100
TZOFFSETTO:+0200
TZNAME:CEST
DTSTART:20240331T010000
END:DAYLIGHT
BEGIN:STANDARD
TZOFFSETFROM:+0200
TZOFFSETTO:+0100
TZNAME:CET
DTSTART:20241027T010000
END:STANDARD
BEGIN:DAYLIGHT
TZOFFSETFROM:+0100
TZOFFSETTO:+0200
TZNAME:CEST
DTSTART:20250330T010000
END:DAYLIGHT
BEGIN:STANDARD
TZOFFSETFROM:+0200
TZOFFSETTO:+0100
TZNAME:CET
DTSTART:20251026T010000
END:STANDARD
BEGIN:DAYLIGHT
TZOFFSETFROM:+0100
TZOFFSETTO:+0200
TZNAME:CEST
DTSTART:20260329T010000
END:DAYLIGHT
BEGIN:STANDARD
TZOFFSETFROM:+0200
TZOFFSETTO:+0100
TZNAME:CET
DTSTART:20261025T010000
END:STANDARD
END:VTIMEZONE
BEGIN:VEVENT
DTSTART;VALUE=DATE:20250207
DTEND;VALUE=DATE:20250210
DTSTAMP:20260424T204733
CREATED:20241209T161507Z
LAST-MODIFIED:20241209T161508Z
UID:54502-1738886400-1739145599@sheisarider.de
SUMMARY:Motorradmesse Leipzig 2025
DESCRIPTION:Zum Saisonauftakt ist die Motorradmesse Leipzig die erste Gelegenheit\, sich einen Überblick über die Highlights des neuen Motorradjahres zu verschaffen. Dazu gibt es spektakuläre Sportvorführungen\, alltagstaugliche Motorradbekleidung\, praktisches Motorradzubehör sowie Informationen zu Motorradreisen zu sehen. \nFür alle Motorradfahrer mit Benzin im Blut\, haben wir kostenfreie Parkplätze für das Zweirad reserviert. \n\n\nIm Mittelpunkt der Motorradschau auf rund 10.000 Quadratmetern stehen wieder die neuen Motorradmodelle. An den Ständen der großen Motorradmarken werden die Bikes der neuen Zweiradsaison ins rechte Licht gerückt – aufsitzen bei den meisten Bikes ausdrücklich erlaubt! \nNamhafte Bikezubehör- und Motorradbekleidungsanbieter sind in Leipzig vertreten und bieten an ihren Ständen die neuesten Produkte und kompetente Beratung rund um Euer Hobby. Ein Service\, der beim fachkundigen Leipziger Motorradfan seit vielen Jahren gut ankommt. \n\n\nNeben dem Blick auf die neuesten Motorräder bekommen die Besucher ein abwechslungsreiches Unterhaltungsprogramm rund ums motorisierte Zweirad geboten. Die beliebte Monster-Trial-Show fliegt mit neuer Besetzung und neuem Programm unters Hallendach. Im erweiterten Außenbereich begeistern Supermoto-Biker. Dazu lassen Freestyler die Räder driften. \nDer Motorsport steht auch bei Sonderschauen im Mittelpunkt\, ebenso Motorradreiseangebote und private Gebrauchtmaschinen. Am Wochenende dürfen sich die Besucher auf zahlreiche Sportstars freuen\, die live auf der Bühne Rede und Antwort stehen. Natürlich gibt es auch die Chance auf Autogramme! \n\n\n 
URL:https://sheisarider.de/event/motorradmesse-leipzig-2025/
END:VEVENT
END:VCALENDAR