BEGIN:VCALENDAR
VERSION:2.0
PRODID:-// - ECPv6.15.20//NONSGML v1.0//EN
CALSCALE:GREGORIAN
METHOD:PUBLISH
X-ORIGINAL-URL:https://sheisarider.de
X-WR-CALDESC:Veranstaltungen für 
REFRESH-INTERVAL;VALUE=DURATION:PT1H
X-Robots-Tag:noindex
X-PUBLISHED-TTL:PT1H
BEGIN:VTIMEZONE
TZID:Europe/Berlin
BEGIN:DAYLIGHT
TZOFFSETFROM:+0100
TZOFFSETTO:+0200
TZNAME:CEST
DTSTART:20240331T010000
END:DAYLIGHT
BEGIN:STANDARD
TZOFFSETFROM:+0200
TZOFFSETTO:+0100
TZNAME:CET
DTSTART:20241027T010000
END:STANDARD
BEGIN:DAYLIGHT
TZOFFSETFROM:+0100
TZOFFSETTO:+0200
TZNAME:CEST
DTSTART:20250330T010000
END:DAYLIGHT
BEGIN:STANDARD
TZOFFSETFROM:+0200
TZOFFSETTO:+0100
TZNAME:CET
DTSTART:20251026T010000
END:STANDARD
BEGIN:DAYLIGHT
TZOFFSETFROM:+0100
TZOFFSETTO:+0200
TZNAME:CEST
DTSTART:20260329T010000
END:DAYLIGHT
BEGIN:STANDARD
TZOFFSETFROM:+0200
TZOFFSETTO:+0100
TZNAME:CET
DTSTART:20261025T010000
END:STANDARD
END:VTIMEZONE
BEGIN:VEVENT
DTSTART;VALUE=DATE:20250221
DTEND;VALUE=DATE:20250224
DTSTAMP:20260424T191320
CREATED:20241209T160133Z
LAST-MODIFIED:20241209T160147Z
UID:54498-1740096000-1740355199@sheisarider.de
SUMMARY:IMOT 2025 zum dritten Mal in München-Riem
DESCRIPTION:Ein „Knallerstart“ im Jahr 2023\, eine erfolgreiche Fortsetzung 2024: Die IMOT – Internationale Motorrad Ausstellung feiert im kommenden Jahr den Hattrick seit dem Wechsel auf das Messegelände in München-Riem. Die Pforten öffnen sich vom 21. bis 23. Februar 2025; Motorrad-Fans aus dem In- und Ausland dürfen sich erneut auf alles freuen\, was ihre Herzen höherschlagen lässt. Der Ticketverkauf für Süddeutschlands größte Zweirad-Messe beginnt rechtzeitig zur Weihnachtsgeschenksaison am 1. Dezember 2024 auf www.imot.de/tickets. Wie immer erwerben alle Besucher ein Kombi-Ticket\, dass ohne Aufpreis auch für die parallel laufende Freizeitmesse f.re.e und die Münchner Auto Tage gilt. \nFür viele Motorrad-Fans ist die IMOT – Internationale Motorrad Ausstellung das Ereignis des Jahres. Mit zuletzt über 140.000 Besuchern zeigt sich auch\, dass sich der neue Austragungsort auf dem Messegelände München-Riem sowie das überarbeitete Konzept gut etabliert haben. „Auf dieser Basis bauen wir natürlich weiter auf“\, so Geschäftsführerin Petra Zahradka. Die Vorbereitungen für die nächste Messe – vom 21. bis 23. Februar 2025 – laufen derzeit auf Hochtouren. „Die IMOT lebt vom Austausch mit der Community“\, so Zahradka weiter. „Deswegen haben wir bei der Planung der Ausgabe 2025 dem Feedback unserer Besucher viel Gehör geschenkt.“ \nIn den Startlöchern stehen dabei zahlreiche Hersteller von Rang und Namen. Bereits jetzt haben die Marken BMW\, Honda\, Indian\, Kawasaki\, Suzuki\, Triumph und Yamaha ihr Kommen bestätigt. Ob Verbrenner oder Elektro: In den Hallen C5 und C6 können Zweirad-Freunde alle Motorrad- oder Rollerneuheiten der kommenden Saison bewundern. Außerdem vor Ort: Quads und alles zu den Themen Reisen\, Zubehör\, Customizing\, Tuning und Bekleidung sowie starke Sondershows. „Unter anderem haben uns die Jungs vom Top Mountain Crosspoint Motorrad-Museum Hochgurgl/Timmelsjoch zugesagt\, die ein paar ihrer beeindruckendsten Zweirad-Hingucker mitbringen. Zusätzlich werden wir in diesem Jahr verstärkt mit Influencern zusammenarbeiten\, da insbesondere in der jüngeren Zielgruppe Online-Inhalte starke Resonanz finden“\, sagt Zahradka. \nRechtzeitig zum Start der Vorweihnachtszeit beginnt auch der Ticketverkauf. Digitale Eintrittskarten gibt es ab dem 1. Dezember 2024 auf www.imot.de/tickets. Diese sind ab 17 Euro (Erwachsene) beziehungsweise 13 Euro (ermäßigt\, mit Nachweis) zu haben. Außerdem gibt es Nachmittagstickets ab 9 Euro\, sowie für Youngster-Tickets ab 8 Euro für Kinder und Jugendliche zwischen 6 und 14 Jahren. Kinder bis einschließlich fünf Jahre haben freien Eintritt. Wie bereits 2023 und 2024 gelten alle IMOT-Tickets für einmaligen Zutritt im Messezeitraum und enthalten zusätzlich den kostenfreien Eintritt für die parallel laufenden Messen f.re.e und die Münchner Auto Tage.
URL:https://sheisarider.de/event/imot-2025-zum-dritten-mal-in-muenchen-riem/
END:VEVENT
BEGIN:VEVENT
DTSTART;VALUE=DATE:20250227
DTEND;VALUE=DATE:20250303
DTSTAMP:20260424T191320
CREATED:20241209T162042Z
LAST-MODIFIED:20250108T100636Z
UID:54504-1740614400-1740959999@sheisarider.de
SUMMARY:Motorräder Dortmund 2025
DESCRIPTION:Alle Neuheiten am Start\n\n\n\n\n\nIn Dortmund sind alle Neuheiten der großen Motorradhersteller komplett am Start. 300 Firmen der Bikeszene zeigen die ganze Bandbreite an Motorrädern\, Motorradzubehör bis hin zu Dienstleistungen rund um das Zweirad. Dazu gibt es Motorradbekleidung\, Tuningtips und die neusten Reifen. Ebenfalls zeigen Reiseanbieter und Motorradhotels ihr Angebot. Auch Vereine präsentieren sich und ihre Arbeit. \n\n\n\n\n\n\n\nMotorsport-Action und Stunt-Shows\n\n\n\n\n\nNervenkitzel fast hautnah!\n\n\n\n\nErlebt täglich ein interessantes Programm auf der Bühne mit Interviews\, Motorrad-Präsentationen und Reportagen. Action-Shows versprechen Spannung und Nervenkitzel. Sonderschauen mit historischen Motorrädern\, Cafe-Racern oder faszinierenden Rennmaschinen bieten viel Gesprächsstoff. \n\n\n\nEuer Bike parkt kostenlos\n\n\n\n\n\nDirekt am Eingang Nord\n\n\n\n\nKommt mit dem Bike und spart die Parkgebühren! Wie in den Vorjahren fahrt Ihr an der Einfahrt einfach weiter und lasst Euch vom freundlichen Personal einen Parkplatz direkt am Haupteingang der Messer Dortmund zuweisen. Leichter und bequemer geht es nicht. Und zudem sieht es noch sehr repräsentativ aus. Euer erstes Fotomotiv ist Euch sicher! \nMotorradmesse Dortmund mit vollem Programm in vier Hallen\nDie neuesten Bikes\, coole Outfits und edles Zubehör zeigen die Motorradhersteller\, Zubehörexperten und Bekleidungsspezialisten am ersten Märzwochenende in Dortmund. Die MOTORRÄDER 25 füllt gleich vier Messehallen. Von Donnerstag\, dem 27. Februar\, bis Sonntag\, dem 2. März werden wieder über 100.000 Besucher in den Westfalenhallen erwartet. Zum 40jährigen Jubiläum der Messe warten besondere Attraktionen auf die Zweiradfans.\n\nIn den Hallen 3 und 4 sind die Neuheiten der großen Hersteller zu sehen\nMit dabei sind unter anderen Benelli\, BMW\, CFMoto\, Harley-Davidson\, Honda\, Kawasaki\, NiU\, Suzuki\, Triumph und Yamaha.\n\nVeredelte Maschinen mit exclusivem Zubehör zeigen unter anderem Ilmberger\, Wunderlich\, Kellermann\, BOS\, GIVI\, Hepco&Becker\, SW-motech und Wilbers. Eine große Auswahl an Helmen und Bekleidung haben die namhaften Bekleidungsmarken in Dortmund dabei. Hersteller wie Shoei\, Arai\, Schubert\, HJC\, Stadler\, Held\, Modeka und viele mehr sind unter den fast 400 Ausstellern in Dortmund. Reise- und Touristikthemen bestimmen das Bild in Halle 2\, wo auf der Reisebühne spannende Touren und Ziele vorgestellt werden.\n\nEin unvergleichliches Motorradangebot bieten die Sonderschauen und Clubs in Halle 5. Von Oldtimer-Raritäten bis zu Youngtimer-Powerbikes stehen dort tolle Maschinen.\n\nZum 40jährigen Jubiläum der Messe rollen die Organisatoren besonderen Zweirädern den „Roten Teppich“ aus. Entlang des Besucherboulevards zwischen den vier Messehallen stehen ausgewählte Modelle der Baujahre seit 1985 und spektakulär umgebaute Custom-Bikes.\n\nDie Bühnenshows mit Präsentation der Neuheiten der Saison\, Stunts und Akrobatik in Halle 3 und spannende Vorführungen im Freigelande zwischen Halle 4 und 5 versprechen wieder einen abwechslungsreichen Messebesuch. An den Ständen warten fachkundige Gesprächspartner aus Handel und Industrie und viele Anregungen für die neue Saison. Und unterwegs in den Westfalenhallen treffen sich alte und neue Mitfahrer zu Benzingesprächen und Verabredungen. „Man sieht sich“ eben.\n\nKlassisch bleibt der Eintrittspreis in Dortmund. Die Tageskarte kostet wie im Vorjahr 19 Euro. Online kann das Ticket im Vorverkauf unter www.zweiradmessen.de noch etwas günstiger gebucht werden. \n\nFür die Besucher mit online-Tickets gibt es wieder den direkten Eingang an Halle 2 auf der Nordseite der großen Westfalenhalle. Wer mit Karte oder bar an der Tageskasse bezahlen möchte\, wird Im Eingangszentrum an der Halle 4 von den freundlichen Mitarbeiterinnen und Mitarbeitern des Messeteams erwartet.\n\nParken ist in Dortmund ein entspanntes Thema. Die Gebühr fürs Auto bleibt einstellig. Wegen der Parkplätze fürs benachbarte legendäre Bundesligastadion sind auch in der Nähe der Eingänge ausreichend freie Plätze zu bekommen.\n\nNoch komfortabler ist der Besuch mit dem Motorrad. Der Parkplatz für die Bikes entlang der B 1 ist wie seit 40 Jahren kostenfrei. Mit wenigen Schritten ist man dann im Eingangszentrum Nord.\n\nSo stehen die Vorzeichen bestens für einen entspannten\, interessanten und abwechslungsreichen Saisonstart mit der Dortmunder Motorradmesse. Alle aktuellen Infos zum Programm in den vier Messehallen und im Freigelände findet ihr unter www.zweiradmessen.de. \n\n\n\n\n\n\n\n\n 
URL:https://sheisarider.de/event/motorraeder-dortmund-2025/
END:VEVENT
END:VCALENDAR