BEGIN:VCALENDAR
VERSION:2.0
PRODID:-// - ECPv6.15.20//NONSGML v1.0//EN
CALSCALE:GREGORIAN
METHOD:PUBLISH
X-ORIGINAL-URL:https://sheisarider.de
X-WR-CALDESC:Veranstaltungen für 
REFRESH-INTERVAL;VALUE=DURATION:PT1H
X-Robots-Tag:noindex
X-PUBLISHED-TTL:PT1H
BEGIN:VTIMEZONE
TZID:Europe/Berlin
BEGIN:DAYLIGHT
TZOFFSETFROM:+0100
TZOFFSETTO:+0200
TZNAME:CEST
DTSTART:20220327T010000
END:DAYLIGHT
BEGIN:STANDARD
TZOFFSETFROM:+0200
TZOFFSETTO:+0100
TZNAME:CET
DTSTART:20221030T010000
END:STANDARD
BEGIN:DAYLIGHT
TZOFFSETFROM:+0100
TZOFFSETTO:+0200
TZNAME:CEST
DTSTART:20230326T010000
END:DAYLIGHT
BEGIN:STANDARD
TZOFFSETFROM:+0200
TZOFFSETTO:+0100
TZNAME:CET
DTSTART:20231029T010000
END:STANDARD
BEGIN:DAYLIGHT
TZOFFSETFROM:+0100
TZOFFSETTO:+0200
TZNAME:CEST
DTSTART:20240331T010000
END:DAYLIGHT
BEGIN:STANDARD
TZOFFSETFROM:+0200
TZOFFSETTO:+0100
TZNAME:CET
DTSTART:20241027T010000
END:STANDARD
END:VTIMEZONE
BEGIN:VEVENT
DTSTART;TZID=Europe/Berlin:20230826T110000
DTEND;TZID=Europe/Berlin:20230826T170000
DTSTAMP:20260422T221016
CREATED:20230619T152259Z
LAST-MODIFIED:20230619T152300Z
UID:51577-1693047600-1693069200@sheisarider.de
SUMMARY:Der PS.Speicher erwartet am 26. August wieder viele Motorradfahrer
DESCRIPTION:Der Bikertag 2023 im PS.Speicher Einbeck\nDer Bikertag 2023 steht unter dem Motto „Benelli“. Der PS.Speicher\, Europas größte Oldtimersammlung\, feiert am 26. August seinen fünften Bikertag: Mit einem Vortrag am Vorabend\, einer Sonderschau und Probefahrten. Motorradfahrer mit allen Fabrikate sind willkommen. \nDer PS.Speicher in Einbeck lädt am 26. August 2023 zum fünften Bikertag ein. Auf dem Parkplatz der Hauptausstellung\, Tiedexer Tor 3 (Zufahrt über Jahnstraße) sind in der Zeit von 11 bis 17 Uhr alle Biker und Gäste ohne Motorräder willkommen. Der Besuch und die Zufahrt sind frei. Der Eintrittspreis in den PS.Speicher mit über 400 Exponaten und in das Depot Motorrad mit fast 1.000 Fahrzeugen sind am Veranstaltungstag für Biker ermäßigt. \nMotto 2023: Benelli\nWie in den Vorjahren\, widmet sich das niedersächsische Oldtimermuseum wieder gezielt einer Marke: 2023 steht Benelli im Fokus. Der PS.Speicher konnte einen der weltweit größten Händler der Marke als Partner gewinnen. Der „Benelli Bauer“ präsentiert beim Bikertag aktuelle Benelli-Motorräder und bietet Probefahrten damit an. Zudem zeigt der PS.Speicher eine eigens kuratierte Sonderschau historischer und bedeutender Benelli-Modelle – moderiert von Motorradkurator Andy Schwietzer. \nDer Motorrad-Kurator des PS.Speicher\, Andy Schwietzer\, äußert sich zufrieden über die Entwicklung der Veranstaltung: „Der Bikertag ist auch bei seinem fünften Mal infolge ein lockeres und unverbindliches Treffen von Motorradfans. Zweiräder aller Marken nehmen einen großen Teil der Sammlung des PS.Speicher ein. Daher freuen wir uns auch sehr auf die Vielfalt der Modelle am 26. August.“ \nFuttern für den guten Zweck:\nEin Teilerlös des Caterings kommt einer Benefizaktion für Motorradfahrer zugute. Die Firma Kühn Sicherheit unterstützt den Bikertag als Sponsoringpartner. \nVorabendprogramm\nAm Vorabend\, Freitag den 25. August\, berichtet Daniela Rieß über ihre aufregende Motorradweltreise. Gemeinsam mit ihrem Ehemann erlebten sie ungeahnte Abenteuer von Erding in die Mongolei\, Europa sowie nach Südamerika. Was alles auf die beiden Biker zukam und wie sie mit Hürden umgegangen sind\, erzählt sie ab 19:00 Uhr. Einlass in die PS.Halle ist ab 18:15 Uhr.\nAchtung: Vorabendprogramm kostet 10 Euro Eintritt. \nMehr Infos zum Reisebericht von Daniela Rieß findet ihr hier.
URL:https://sheisarider.de/event/der-ps-speicher-erwartet-am-26-august-wieder-viele-motorradfahrer/
END:VEVENT
END:VCALENDAR