BEGIN:VCALENDAR
VERSION:2.0
PRODID:-// - ECPv6.15.20//NONSGML v1.0//EN
CALSCALE:GREGORIAN
METHOD:PUBLISH
X-ORIGINAL-URL:https://sheisarider.de
X-WR-CALDESC:Veranstaltungen für 
REFRESH-INTERVAL;VALUE=DURATION:PT1H
X-Robots-Tag:noindex
X-PUBLISHED-TTL:PT1H
BEGIN:VTIMEZONE
TZID:Europe/Paris
BEGIN:DAYLIGHT
TZOFFSETFROM:+0100
TZOFFSETTO:+0200
TZNAME:CEST
DTSTART:20210328T010000
END:DAYLIGHT
BEGIN:STANDARD
TZOFFSETFROM:+0200
TZOFFSETTO:+0100
TZNAME:CET
DTSTART:20211031T010000
END:STANDARD
BEGIN:DAYLIGHT
TZOFFSETFROM:+0100
TZOFFSETTO:+0200
TZNAME:CEST
DTSTART:20220327T010000
END:DAYLIGHT
BEGIN:STANDARD
TZOFFSETFROM:+0200
TZOFFSETTO:+0100
TZNAME:CET
DTSTART:20221030T010000
END:STANDARD
BEGIN:DAYLIGHT
TZOFFSETFROM:+0100
TZOFFSETTO:+0200
TZNAME:CEST
DTSTART:20230326T010000
END:DAYLIGHT
BEGIN:STANDARD
TZOFFSETFROM:+0200
TZOFFSETTO:+0100
TZNAME:CET
DTSTART:20231029T010000
END:STANDARD
END:VTIMEZONE
BEGIN:VEVENT
DTSTART;VALUE=DATE:20220310
DTEND;VALUE=DATE:20220322
DTSTAMP:20260422T162652
CREATED:20220310T153336Z
LAST-MODIFIED:20220322T162033Z
UID:39535-1646870400-1647907199@sheisarider.de
SUMMARY:Suzuki Motorrad-Messe 2022 jetzt rein virtuell
DESCRIPTION:Richtig Lust machen auf die kommende Motorradsaison\, das will die virtuelle Suzuki Motorrad-Messe 2022 von Suzuki. \nPünktlich zum Saisonstart geht das digitale Format an den Start und ermöglicht allen Bikern\, die aktuellen Modelle intensiv unter die Lupe zu nehmen. \nMotorradmessen im Frühjahr – Nicht 2022\nDie Frühjahrsmessen haben traditionell einen festen Platz im Terminkalender aller Motorradbegeisterten. Nach der Winterpause endlich wieder intensiv ins Hobby eintauchen und sich mit den neuesten Modellen vertraut machen – Anfang März ist dafür höchste Zeit. Doch auch in diesem Jahr müssen wieder so gut wie alle Live-Veranstaltungen ausfallen. Genau deshalb bietet Suzuki den Bikern in dieser besonderen Situation einen attraktiven Service und eine digitale Alternative. In einem animierten Ambiente präsentiert die virtuelle Messe alle aktuellen Modelle des japanischen Herstellers. \nUnterschiedliche Bereiche erlauben es den Fans\, das Unternehmen und die Maschinen aus verschiedenen Blickwinkeln intensiv kennenzulernen. Sämtliche technischen Daten sind hinterlegt\, so dass die Biker ausführliche Vergleiche vornehmen können. \nViele Suzuki-Bikes auf der Motorrad-Messe\nDie virtuelle Motorrad-Messe bietet ein umfassendes Produkterlebnis des neuen Grand Tourers Suzuki GSX-S1000 GT\, des charismatischen Street Fighter Suzuki GSX-S1000\, der ikonischen Suzuki Hayabusa sowie zahlreicher weiterer Modelle aus dem aktuellen Suzuki Line-up. \nDie virtuelle Messe von Suzuki öffnet am 10.03.2022 ihre Pforten. Sie steht online allen Interessierten ohne Registrierung offen und kann sowohl mit Desktop-Computern und Laptops als auch mit mobilen Geräten (im Landscape-Modus) genutzt werden. Das Angebot ist hier zu erreichen. \n 
URL:https://sheisarider.de/event/suzuki-motorrad-messe-2022-jetzt-rein-virtuell/
ATTACH;FMTTYPE=image/png:https://sheisarider.de/wp-content/uploads/2022/03/motorrad-messe-2022-suzuki.png
END:VEVENT
END:VCALENDAR