BEGIN:VCALENDAR
VERSION:2.0
PRODID:-// - ECPv6.15.20//NONSGML v1.0//EN
CALSCALE:GREGORIAN
METHOD:PUBLISH
X-ORIGINAL-URL:https://sheisarider.de
X-WR-CALDESC:Veranstaltungen für 
REFRESH-INTERVAL;VALUE=DURATION:PT1H
X-Robots-Tag:noindex
X-PUBLISHED-TTL:PT1H
BEGIN:VTIMEZONE
TZID:Europe/Berlin
BEGIN:DAYLIGHT
TZOFFSETFROM:+0100
TZOFFSETTO:+0200
TZNAME:CEST
DTSTART:20250330T010000
END:DAYLIGHT
BEGIN:STANDARD
TZOFFSETFROM:+0200
TZOFFSETTO:+0100
TZNAME:CET
DTSTART:20251026T010000
END:STANDARD
BEGIN:DAYLIGHT
TZOFFSETFROM:+0100
TZOFFSETTO:+0200
TZNAME:CEST
DTSTART:20260329T010000
END:DAYLIGHT
BEGIN:STANDARD
TZOFFSETFROM:+0200
TZOFFSETTO:+0100
TZNAME:CET
DTSTART:20261025T010000
END:STANDARD
BEGIN:DAYLIGHT
TZOFFSETFROM:+0100
TZOFFSETTO:+0200
TZNAME:CEST
DTSTART:20270328T010000
END:DAYLIGHT
BEGIN:STANDARD
TZOFFSETFROM:+0200
TZOFFSETTO:+0100
TZNAME:CET
DTSTART:20271031T010000
END:STANDARD
END:VTIMEZONE
BEGIN:VEVENT
DTSTART;TZID=Europe/Berlin:20260314T120000
DTEND;TZID=Europe/Berlin:20260314T180000
DTSTAMP:20260426T015130
CREATED:20260309T155933Z
LAST-MODIFIED:20260309T160855Z
UID:59636-1773489600-1773511200@sheisarider.de
SUMMARY:Schrauberworkshop - Ladies Only in Pirmasens
DESCRIPTION:Workshop – Ladies Only\nSo cool\, Thorsten – Schraubergott –  hat total Lust und mich gefragt\, ob wir mit paar Mädels net kommen wollen und bisschen schauen auf was zu achten ist\, besonders jetzt beim Saisonstart. Total cool\, danke Thorsten! \nSaisonstarts aber erst das Bike Checken: Öl\, Wasser\, Luft\, Kette etc. \nDemobike vorhanden! \nLocation\n\nWo: Lemberg\nWann: 14.03.26\nUhrzeit: 12 Uhr\nDauer: ca\, 4 Stunden\n\nAlle weiteren Infos und Anmeldung über Claudias Insta
URL:https://sheisarider.de/event/schrauberworkshop-ladies-only-in-pirmasens/
END:VEVENT
END:VCALENDAR